BEGIN:VCALENDAR
VERSION:2.0
PRODID:-//wp-events-plugin.com//7.2.3.1//EN
TZID:Europe/Berlin
X-WR-TIMEZONE:Europe/Berlin
BEGIN:VEVENT
UID:580@marketingclub-muenchen.de
DTSTART;TZID=Europe/Berlin:20220520T083000
DTEND;TZID=Europe/Berlin:20220520T220000
DTSTAMP:20220504T104449Z
URL:https://www.marketingclub-muenchen.de/veranstaltungen/markencamp-2022-
 zu-sonderkonditionen-live/
SUMMARY:MARKENCAMP 2022 zu Sonderkonditionen - LIVE - Marketing Club Münch
 en
DESCRIPTION:Markencamp 2022 - MCM-Sonderkonditionen für das Event für Mar
 kenmacher vom 19. – 21. Mai in München: Erlebt ein einzigartiges LineUp
  in einzigartigen Locations in einer einzigartigen Atmosphäre. Begrenztes
  Ticketkontingent!
ATTACH;FMTTYPE=image/jpeg:https://www.marketingclub-muenchen.de/wp-content
 /uploads/mcm-teaser-markencamp-marketing-club-muenchen-1200x630-1.jpg
CATEGORIES:Vortrag
END:VEVENT
BEGIN:VTIMEZONE
TZID:Europe/Berlin
X-LIC-LOCATION:Europe/Berlin
BEGIN:DAYLIGHT
DTSTART:20220327T030000
TZOFFSETFROM:+0100
TZOFFSETTO:+0200
TZNAME:CEST
END:DAYLIGHT
END:VTIMEZONE
END:VCALENDAR