BEGIN:VCALENDAR
VERSION:2.0
PRODID:-//wp-events-plugin.com//7.2.3.1//EN
TZID:Europe/Berlin
X-WR-TIMEZONE:Europe/Berlin
BEGIN:VEVENT
UID:600@marketingclub-muenchen.de
DTSTART;TZID=Europe/Berlin:20230112T183000
DTEND;TZID=Europe/Berlin:20230112T194500
DTSTAMP:20230201T115503Z
URL:https://www.marketingclub-muenchen.de/veranstaltungen/marke-manager-wi
 e-positionierung-und-networking-ihre-karriere-foerdert/
SUMMARY:Marke Manager - Wie Positionierung und Networking Ihre Karriere fö
 rdern - Marketing Club München
DESCRIPTION:Endlich Marketing in eigener Sache! Bei unserem spannenden Vort
 rag zweier Expertinnen zum Jahresbeginn erhielten unsere Mitglieder vor Or
 t und im Stream wertvolle Karriere-Tipps\, wie sich das eigene Profil sch
 ärfen und die eigene Positionierung stärken lässt. 
ATTACH;FMTTYPE=image/jpeg:https://www.marketingclub-muenchen.de/wp-content
 /uploads/teaser_Positionierung.png
CATEGORIES:Netzwerk,Online-Vortrag,Rückblick,Vortrag
LOCATION:MCM-Hybrid (vor Ort und online): Geschäftsstelle\, Edelsbergstr. 
 8\, 80686 München und online per Zoom
X-APPLE-STRUCTURED-LOCATION;VALUE=URI;X-ADDRESS=Edelsbergstr. 8\, München 
 und online per Zoom\, 80686\, Deutschland;X-APPLE-RADIUS=100;X-TITLE=MCM-H
 ybrid (vor Ort und online): Geschäftsstelle:geo:0,0
END:VEVENT
BEGIN:VTIMEZONE
TZID:Europe/Berlin
X-LIC-LOCATION:Europe/Berlin
BEGIN:STANDARD
DTSTART:20221030T020000
TZOFFSETFROM:+0200
TZOFFSETTO:+0100
TZNAME:CET
END:STANDARD
END:VTIMEZONE
END:VCALENDAR