BEGIN:VCALENDAR
VERSION:2.0
PRODID:-//wp-events-plugin.com//7.2.3.1//EN
TZID:Europe/Berlin
X-WR-TIMEZONE:Europe/Berlin
BEGIN:VEVENT
UID:498@marketingclub-muenchen.de
DTSTART;TZID=Europe/Berlin:20201029T100000
DTEND;TZID=Europe/Berlin:20201029T170000
DTSTAMP:20201014T164704Z
URL:https://www.marketingclub-muenchen.de/veranstaltungen/make-2020-financ
 ial-services-online-convention/
SUMMARY:W&V MAKE 2020 Financial Services - Online Convention - Marketing Cl
 ub München
DESCRIPTION:Die W&V MAKE - STARKE MARKE MITTELSTAND - findet erneut am 29.1
 0.2020 als Online Convention statt. Das Thema heißt: Financial Services u
 nd ist passgenau auf den Mittelstand ausgerichtet. Mitgliedern des MCM bie
 ten wir über die Kooperation mit W&V eine kostenlose Teilnahme. Den 100% 
 Rabatt-Code erhalten Sie über die Geschäftsstelle des MCM.
ATTACH;FMTTYPE=image/jpeg:https://www.marketingclub-muenchen.de/wp-content
 /uploads/teaser-koop-wuv-make-2020_tiny.jpg
CATEGORIES:Kooperation,Vortrag
END:VEVENT
BEGIN:VTIMEZONE
TZID:Europe/Berlin
X-LIC-LOCATION:Europe/Berlin
BEGIN:STANDARD
DTSTART:20201025T020000
TZOFFSETFROM:+0200
TZOFFSETTO:+0100
TZNAME:CET
END:STANDARD
END:VTIMEZONE
END:VCALENDAR