BEGIN:VCALENDAR
VERSION:2.0
PRODID:-//wp-events-plugin.com//7.2.3.1//EN
TZID:Europe/Berlin
X-WR-TIMEZONE:Europe/Berlin
BEGIN:VEVENT
UID:702@marketingclub-muenchen.de
DTSTART;TZID=Europe/Berlin:20251112T174000
DTEND;TZID=Europe/Berlin:20251112T213000
DTSTAMP:20251118T090942Z
URL:https://www.marketingclub-muenchen.de/veranstaltungen/magie-trifft-mar
 keting-clubabend-im-circus-roncalli/
SUMMARY:Magie trifft Marketing: Clubabend im Circus Roncalli - Marketing Cl
 ub München
DESCRIPTION:Theodor Bräutigam gab in der Manege des Circus Roncalli spanne
 nde Einblicke in das Marketing eines kulturellen Traditionsunternehmens. Z
 wischen nostalgischer Inszenierung und moderner Digitalstrategie zeigte er
 \, wie Roncalli Emotionalität\, Storytelling und technische Innovation ve
 reint – von KI über Influencer bis zu Out-of-Home-Kampagnen. Ein inspir
 ierender Abend zwischen Markenführung\, Poesie und Popcorn.
ATTACH;FMTTYPE=image/jpeg:https://www.marketingclub-muenchen.de/wp-content
 /uploads/teaser-mcm-roncalli-circus.png
CATEGORIES:Marketing vor Ort,Rückblick
LOCATION:Circus Roncalli\, Atelierstraße 11 im Werksviertel (direkt neben 
 dem Riesenrad Umadum)\, 81671 München
X-APPLE-STRUCTURED-LOCATION;VALUE=URI;X-ADDRESS=Atelierstraße 11 im Werksv
 iertel (direkt neben dem Riesenrad Umadum)\, München\, Bayern\, 81671\, D
 eutschland;X-APPLE-RADIUS=100;X-TITLE=Circus Roncalli:geo:0,0
END:VEVENT
BEGIN:VTIMEZONE
TZID:Europe/Berlin
X-LIC-LOCATION:Europe/Berlin
BEGIN:STANDARD
DTSTART:20251026T020000
TZOFFSETFROM:+0200
TZOFFSETTO:+0100
TZNAME:CET
END:STANDARD
END:VTIMEZONE
END:VCALENDAR