BEGIN:VCALENDAR
VERSION:2.0
PRODID:-//wp-events-plugin.com//7.2.3.1//EN
TZID:Europe/Berlin
X-WR-TIMEZONE:Europe/Berlin
BEGIN:VEVENT
UID:379@marketingclub-muenchen.de
DTSTART;TZID=Europe/Berlin;VALUE=DATE:20181121
DTEND;TZID=Europe/Berlin;VALUE=DATE:20181123
DTSTAMP:20180815T105305Z
URL:https://www.marketingclub-muenchen.de/veranstaltungen/machine-learning
 -impulse-durch-quanten-computing-data-mining-und-reinforcement-learning/
SUMMARY:Machine Learning - Impulse durch Quanten Computing\, Data Mining un
 d Reinforcement Learning - Marketing Club München
DESCRIPTION:Heute lernen\, die Zukunft zu gestalten: Der schnelle technolo
 gische Wandel ist von einem digitalen Umbruch geprägt. Wer nicht digitali
 siert\, hat keine Zukunft. Wollen Unternehmen in diesem Markt bestehen\, s
 o ist es ihre einzige Chance\, die digitale Entwicklung zu verstehen und d
 iesen Weg mitzugehen.
ATTACH;FMTTYPE=image/jpeg:https://www.marketingclub-muenchen.de/wp-content
 /uploads/teaser-digicon_marketing-club-muenchen.jpg
CATEGORIES:Kooperation
LOCATION:Palais Lenbach\, Ottostraße 6\, 90333  München
GEO:48.1417199;11.568191899999988
X-APPLE-STRUCTURED-LOCATION;VALUE=URI;X-ADDRESS=Ottostraße 6\, München\, 
 90333 \, Deutschland;X-APPLE-RADIUS=100;X-TITLE=Palais Lenbach:geo:48.1417
 199,11.568191899999988
END:VEVENT
BEGIN:VTIMEZONE
TZID:Europe/Berlin
X-LIC-LOCATION:Europe/Berlin
BEGIN:STANDARD
DTSTART:20181028T020000
TZOFFSETFROM:+0200
TZOFFSETTO:+0100
TZNAME:CET
END:STANDARD
END:VTIMEZONE
END:VCALENDAR