BEGIN:VCALENDAR
VERSION:2.0
PRODID:-//wp-events-plugin.com//7.2.3.1//EN
TZID:Europe/Berlin
X-WR-TIMEZONE:Europe/Berlin
BEGIN:VEVENT
UID:625@marketingclub-muenchen.de
DTSTART;TZID=Europe/Berlin:20231109T183000
DTEND;TZID=Europe/Berlin:20231109T203000
DTSTAMP:20240505T130852Z
URL:https://www.marketingclub-muenchen.de/veranstaltungen/limited-edition-
 november-stammtisch-im-bergson-pop-up/
SUMMARY:Limited Edition: November-Stammtisch im Bergson Pop-Up - Marketing 
 Club München
DESCRIPTION:Unser Stammtisch im November ist eine Limited Edition: Wir besu
 chen das Bergson Pop-up mitten am Marienplatz\, das erst seit Juli und nur
  noch bis Dezember so geöffnet hat. Geballte Kultur trifft Aufbruchstimmu
 ng zu einem spannenden neuen Großprojekt! Wer nicht dabei ist\, verpasst 
 also definitiv etwas. Gleich anmelden!
ATTACH;FMTTYPE=image/jpeg:https://www.marketingclub-muenchen.de/wp-content
 /uploads/teaser-MCM-November-Stammtisch-Bergson_1200x630.png
CATEGORIES:MCM Stammtisch,Netzwerk
LOCATION:Bergson Pop-up Marienplatz\, Marienplatz 8\, 80331 München
X-APPLE-STRUCTURED-LOCATION;VALUE=URI;X-ADDRESS=Marienplatz 8\, München\, 
 Bayern\, 80331\, Deutschland;X-APPLE-RADIUS=100;X-TITLE=Bergson Pop-up Mar
 ienplatz:geo:0,0
END:VEVENT
BEGIN:VTIMEZONE
TZID:Europe/Berlin
X-LIC-LOCATION:Europe/Berlin
BEGIN:STANDARD
DTSTART:20231029T020000
TZOFFSETFROM:+0200
TZOFFSETTO:+0100
TZNAME:CET
END:STANDARD
END:VTIMEZONE
END:VCALENDAR