BEGIN:VCALENDAR
VERSION:2.0
PRODID:-//wp-events-plugin.com//7.2.3.1//EN
TZID:Europe/Berlin
X-WR-TIMEZONE:Europe/Berlin
BEGIN:VEVENT
UID:684@marketingclub-muenchen.de
DTSTART;TZID=Europe/Berlin:20250721T183000
DTEND;TZID=Europe/Berlin:20250721T220000
DTSTAMP:20250814T100350Z
URL:https://www.marketingclub-muenchen.de/veranstaltungen/kreativitaet-und
 -innovation-im-fokus-new-work-bei-serviceplan/
SUMMARY:Kreativität und Innovation im Fokus: New Work bei Serviceplan - Ma
 rketing Club München
DESCRIPTION:Das House of Communication der Agentur Serviceplan ist ein arch
 itektonisches Highlight im Münchner Werksviertel\, Heimat der privaten Ku
 nstkollektion von Dr. Peter und Florian Haller UND Büro der größten inh
 abergeführten Agenturgruppe Europas. Wer erfahren will\, wie flexibles Ar
 beiten\, Kunst und Begegnung kombiniert werden\, ist hier genau richtig. 
ATTACH;FMTTYPE=image/jpeg:https://www.marketingclub-muenchen.de/wp-content
 /uploads/teaser_mcm_Serviceplan_New-Work.png
CATEGORIES:Führung vor Ort,Netzwerk,Rückblick
LOCATION:House of Communication\, Friedenstraße 24\, 81671 München
X-APPLE-STRUCTURED-LOCATION;VALUE=URI;X-ADDRESS=Friedenstraße 24\, Münche
 n\, Bayern\, 81671\, Deutschland;X-APPLE-RADIUS=100;X-TITLE=House of Commu
 nication:geo:0,0
END:VEVENT
BEGIN:VTIMEZONE
TZID:Europe/Berlin
X-LIC-LOCATION:Europe/Berlin
BEGIN:DAYLIGHT
DTSTART:20250330T030000
TZOFFSETFROM:+0100
TZOFFSETTO:+0200
TZNAME:CEST
END:DAYLIGHT
END:VTIMEZONE
END:VCALENDAR