BEGIN:VCALENDAR
VERSION:2.0
PRODID:-//wp-events-plugin.com//7.2.3.1//EN
TZID:Europe/Berlin
X-WR-TIMEZONE:Europe/Berlin
BEGIN:VEVENT
UID:700@marketingclub-muenchen.de
DTSTART;TZID=Europe/Berlin:20251009T100000
DTEND;TZID=Europe/Berlin:20251009T153000
DTSTAMP:20250807T140248Z
URL:https://www.marketingclub-muenchen.de/veranstaltungen/konferenz-ki-in-
 kommunikation-und-marketing-kooperation-m-d-akademie-d-dt-medien/
SUMMARY:KONFERENZ: KI in Kommunikation und Marketing – Kooperation m.d. A
 kademie d.dt. Medien - Marketing Club München
DESCRIPTION:Kommunikation und Marketing neu denken – mit KI als Sparrings
 partner\, denn KI-Tools haben längst Einzug in den Arbeitsalltag von Komm
 unikations- und Marketingprofis gehalten. Sie kommen bei der Planung und E
 ntwicklung von Content und Kampagnen ebenso zum Einsatz wie bei der Optimi
 erung von Prozessen und Workflows. Ihr Versprechen: mehr Effizienz\, höhe
 re Produktivität und passgenaue Inhalte für unterschiedliche Zielgruppen
  und Kanäle. Das schauen wir uns bei der Akademie der deutschen Medien n
 äher an!
ATTACH;FMTTYPE=image/jpeg:https://www.marketingclub-muenchen.de/wp-content
 /uploads/teaser-mcm-ki-konferenz-koop.png
CATEGORIES:Kooperation
END:VEVENT
BEGIN:VTIMEZONE
TZID:Europe/Berlin
X-LIC-LOCATION:Europe/Berlin
BEGIN:DAYLIGHT
DTSTART:20250330T030000
TZOFFSETFROM:+0100
TZOFFSETTO:+0200
TZNAME:CEST
END:DAYLIGHT
END:VTIMEZONE
END:VCALENDAR