BEGIN:VCALENDAR
VERSION:2.0
PRODID:-//wp-events-plugin.com//7.2.3.1//EN
TZID:Europe/Berlin
X-WR-TIMEZONE:Europe/Berlin
BEGIN:VEVENT
UID:733@marketingclub-muenchen.de
DTSTART;TZID=Europe/Berlin:20260709T180000
DTEND;TZID=Europe/Berlin:20260709T223000
DTSTAMP:20260421T104013Z
URL:https://www.marketingclub-muenchen.de/veranstaltungen/ki-und-social-me
 dia-posts-kampagnen-und-community-management-kooperation-m-d-akademie-d-dt
 -medien/
SUMMARY:KI und Social Media – Posts\, Kampagnen und Community Management 
 – Kooperation m.d. Akademie d.dt. Medien - Marketing Club München
DESCRIPTION:Ein Abend\, drei topaktuelle KI–Keynotes von KI-Experten - da
 s Abendgespräch auf Einladung von Akademie der deutschen Medien und der R
 id Stiftung.
ATTACH;FMTTYPE=image/jpeg:https://www.marketingclub-muenchen.de/wp-content
 /uploads/teaser-mcm-aka-abendgespraech.png
CATEGORIES:Kooperation,Vortrag
LOCATION:Literaturhaus München\, Salvatorplatz 1\, 80333 München
GEO:48.1418942;11.574883799999952
X-APPLE-STRUCTURED-LOCATION;VALUE=URI;X-ADDRESS=Salvatorplatz 1\, München\
 , 80333\, Deutschland;X-APPLE-RADIUS=100;X-TITLE=Literaturhaus München:ge
 o:48.1418942,11.574883799999952
END:VEVENT
BEGIN:VTIMEZONE
TZID:Europe/Berlin
X-LIC-LOCATION:Europe/Berlin
BEGIN:DAYLIGHT
DTSTART:20260329T030000
TZOFFSETFROM:+0100
TZOFFSETTO:+0200
TZNAME:CEST
END:DAYLIGHT
END:VTIMEZONE
END:VCALENDAR