BEGIN:VCALENDAR
VERSION:2.0
PRODID:-//wp-events-plugin.com//7.2.3.1//EN
TZID:Europe/Berlin
X-WR-TIMEZONE:Europe/Berlin
BEGIN:VEVENT
UID:35@marketingclub-muenchen.de
DTSTART;TZID=Europe/Berlin:20151125T193000
DTEND;TZID=Europe/Berlin:20151125T210000
DTSTAMP:20160121T131440Z
URL:https://www.marketingclub-muenchen.de/veranstaltungen/jump-together-ma
 rketing-club-stammtisch/
SUMMARY:JuMP Together - Marketing Club Stammtisch - Marketing Club München
DESCRIPTION:"Beim Kegeln kommt der ganze Mensch zum Vorschein." behauptete 
 schon Franz Kafka. In diesem Sinne freuen wir uns\, wenn wir euch zahlreic
 h zu unserem letzten Stammtisch in diesem Jahr in der urgemütlichen Atmos
 phäre des Wirtshaus Maxvorstadt an der Kegelbahn begrüßen dürfen.
ATTACH;FMTTYPE=image/jpeg:https://www.marketingclub-muenchen.de/wp-content
 /uploads/jump_beim_kegeln.jpg
CATEGORIES:Marketing Pioniere,MCM Stammtisch,Rückblick
LOCATION:Wirtshaus Maxvorstadt\, Augustenstraße 53\, 80333 München
GEO:48.149264;11.562784599999986
X-APPLE-STRUCTURED-LOCATION;VALUE=URI;X-ADDRESS=Augustenstraße 53\, Münch
 en\, 80333\, Deutschland;X-APPLE-RADIUS=100;X-TITLE=Wirtshaus Maxvorstadt:
 geo:48.149264,11.562784599999986
END:VEVENT
BEGIN:VTIMEZONE
TZID:Europe/Berlin
X-LIC-LOCATION:Europe/Berlin
BEGIN:STANDARD
DTSTART:20151025T020000
TZOFFSETFROM:+0200
TZOFFSETTO:+0100
TZNAME:CET
END:STANDARD
END:VTIMEZONE
END:VCALENDAR