BEGIN:VCALENDAR
VERSION:2.0
PRODID:-//wp-events-plugin.com//7.2.3.1//EN
TZID:Europe/Berlin
X-WR-TIMEZONE:Europe/Berlin
BEGIN:VEVENT
UID:267@marketingclub-muenchen.de
DTSTART;TZID=Europe/Berlin:20160330T193000
DTEND;TZID=Europe/Berlin:20160330T230000
DTSTAMP:20160321T192452Z
URL:https://www.marketingclub-muenchen.de/veranstaltungen/jump-together-ma
 erz-marketing-club-stammtisch/
SUMMARY:JuMP Together März - Marketing Club Stammtisch - Marketing Club M
 ünchen
DESCRIPTION:Wir treffen uns um 19.30 Uhr ganz zentral im Zwickl am Viktuali
 enmarkt zu "Pflanzerl und Bier". In diesem Sinne möchten wir mit euch den
  Feierabend einläuten und zum lockeren Austausch und Netzwerken mit Mitgl
 iedern\, Interessenten\, JuMP und Aktiven einladen.
ATTACH;FMTTYPE=image/jpeg:https://www.marketingclub-muenchen.de/wp-content
 /uploads/Zwickl-e1458586790188.jpg
CATEGORIES:Marketing Pioniere,MCM Stammtisch
LOCATION:Zwickl - Gastlichkeit am Viktualienmarkt\, Dreifaltigkeitsplatz 2 
 \, 80331  München
GEO:48.13523;11.577170000000024
X-APPLE-STRUCTURED-LOCATION;VALUE=URI;X-ADDRESS=Dreifaltigkeitsplatz 2 \, M
 ünchen\, 80331 \, Deutschland;X-APPLE-RADIUS=100;X-TITLE=Zwickl - Gastlic
 hkeit am Viktualienmarkt:geo:48.13523,11.577170000000024
END:VEVENT
BEGIN:VTIMEZONE
TZID:Europe/Berlin
X-LIC-LOCATION:Europe/Berlin
BEGIN:DAYLIGHT
DTSTART:20160327T030000
TZOFFSETFROM:+0100
TZOFFSETTO:+0200
TZNAME:CEST
END:DAYLIGHT
END:VTIMEZONE
END:VCALENDAR