BEGIN:VCALENDAR
VERSION:2.0
PRODID:-//wp-events-plugin.com//7.2.3.1//EN
TZID:Europe/Berlin
X-WR-TIMEZONE:Europe/Berlin
BEGIN:VEVENT
UID:284@marketingclub-muenchen.de
DTSTART;TZID=Europe/Berlin:20160713T190000
DTEND;TZID=Europe/Berlin:20160713T220000
DTSTAMP:20160630T151442Z
URL:https://www.marketingclub-muenchen.de/veranstaltungen/jump-into-your-c
 areer/
SUMMARY:JuMP into your career: Karrierecoaching - Marketing Club München
DESCRIPTION:Wo stehe ich? Wo sollte ich sein? Wo will ich eigentlich hin? U
 nter dem Motto "Karrierecoaching" diskutieren wir diese und viele weitere 
 Fragen mit unserem Mentor Uwe Middeke im Rahmen der MCM Academy. Einen Abe
 nd lang dreht sich alles um unsere Karriere!
ATTACH;FMTTYPE=image/jpeg:https://www.marketingclub-muenchen.de/wp-content
 /uploads/JumP-Career.jpg
CATEGORIES:Marketing Pioniere
LOCATION:straight. GmbH Agentur für Kommunikation\, Gabrielenstraße 9\, 8
 0636 München
GEO:48.1483561;11.539437300000031
X-APPLE-STRUCTURED-LOCATION;VALUE=URI;X-ADDRESS=Gabrielenstraße 9\, Münch
 en\, 80636\, Deutschland;X-APPLE-RADIUS=100;X-TITLE=straight. GmbH Agentur
  für Kommunikation:geo:48.1483561,11.539437300000031
END:VEVENT
BEGIN:VTIMEZONE
TZID:Europe/Berlin
X-LIC-LOCATION:Europe/Berlin
BEGIN:DAYLIGHT
DTSTART:20160327T030000
TZOFFSETFROM:+0100
TZOFFSETTO:+0200
TZNAME:CEST
END:DAYLIGHT
END:VTIMEZONE
END:VCALENDAR