BEGIN:VCALENDAR
VERSION:2.0
PRODID:-//wp-events-plugin.com//7.2.3.1//EN
TZID:Europe/Berlin
X-WR-TIMEZONE:Europe/Berlin
BEGIN:VEVENT
UID:355@marketingclub-muenchen.de
DTSTART;TZID=Europe/Berlin:20180213T183000
DTEND;TZID=Europe/Berlin:20180213T223000
DTSTAMP:20180213T160202Z
URL:https://www.marketingclub-muenchen.de/veranstaltungen/jump-force-works
 hop-fuer-dj-und-pandaparty-veranstalter-freez/
SUMMARY:JuMP-Force Workshop für DJ und PandaParty-Veranstalter Freez - Mar
 keting Club München
DESCRIPTION:Vor 10 Jahren als Insiderparty vom Münchner DJ und Veranstalte
 r Freez begonnen\, ist die PandaParty heute „die größte Partyreihe Deu
 tschlands“ und regelmäßiger Pflichttermin im Muffatwerk für viele Mü
 nchner. Das Geheimrezept stand schon damals fest: Der perfekte Cocktail au
 s Leuten\, gut gelauntem Musikmix und mit visuellen Installationen umgesta
 ltete Locations.
ATTACH;FMTTYPE=image/jpeg:https://www.marketingclub-muenchen.de/wp-content
 /uploads/Jump-force-workshop.png
CATEGORIES:Marketing Pioniere,Vortrag,Workshop
LOCATION:silberfabrik\, Elsässerstraße 19\,  81667 München
GEO:48.1308097;11.605269700000008
X-APPLE-STRUCTURED-LOCATION;VALUE=URI;X-ADDRESS=Elsässerstraße 19\, 81667
  München\, Deutschland;X-APPLE-RADIUS=100;X-TITLE=silberfabrik:geo:48.130
 8097,11.605269700000008
END:VEVENT
BEGIN:VTIMEZONE
TZID:Europe/Berlin
X-LIC-LOCATION:Europe/Berlin
BEGIN:STANDARD
DTSTART:20171029T020000
TZOFFSETFROM:+0200
TZOFFSETTO:+0100
TZNAME:CET
END:STANDARD
END:VTIMEZONE
END:VCALENDAR