BEGIN:VCALENDAR
VERSION:2.0
PRODID:-//wp-events-plugin.com//7.2.3.1//EN
TZID:Europe/Berlin
X-WR-TIMEZONE:Europe/Berlin
BEGIN:VEVENT
UID:130@marketingclub-muenchen.de
DTSTART;TZID=Europe/Berlin:20080212T190000
DTEND;TZID=Europe/Berlin:20080212T210000
DTSTAMP:20160122T094352Z
URL:https://www.marketingclub-muenchen.de/veranstaltungen/jaegermeister-vo
 n-hirschen-trikot-sponsoring-und-einer-meisterschale-mit-geweih/
SUMMARY:Jägermeister: Von Hirschen\, Trikot-Sponsoring und einer Meistersc
 hale mit Geweih - Marketing Club München
DESCRIPTION:56 Kräuter\, Blüten\, Wurzeln und Früchte aus verschiedenste
 n Ländern sind die Hauptzutaten einer der erfolgreichsten Spirituosen und
  international bedeutenden Marke. Die Rede ist von Jägermeister\, einem K
 räuterlikör mit Kultstatus\, der 2007 auf Platz 9 der weltweit bekanntes
 ten Spirituosenmarken lag.
ATTACH;FMTTYPE=image/jpeg:https://www.marketingclub-muenchen.de/wp-content
 /uploads/MCM_Teaser-e1454670837498.jpg
CATEGORIES:Vortrag
LOCATION:IHK Akademie\, Orleanstr. 10 - 12\, 81699 München
GEO:48.12443649999999;11.59843890000002
X-APPLE-STRUCTURED-LOCATION;VALUE=URI;X-ADDRESS=Orleanstr. 10 - 12\, Münch
 en\, 81699\, Deutschland;X-APPLE-RADIUS=100;X-TITLE=IHK Akademie:geo:48.12
 443649999999,11.59843890000002
END:VEVENT
BEGIN:VTIMEZONE
TZID:Europe/Berlin
X-LIC-LOCATION:Europe/Berlin
BEGIN:STANDARD
DTSTART:20071028T020000
TZOFFSETFROM:+0200
TZOFFSETTO:+0100
TZNAME:CET
END:STANDARD
END:VTIMEZONE
END:VCALENDAR