BEGIN:VCALENDAR
VERSION:2.0
PRODID:-//wp-events-plugin.com//7.2.3.1//EN
TZID:Europe/Berlin
X-WR-TIMEZONE:Europe/Berlin
BEGIN:VEVENT
UID:367@marketingclub-muenchen.de
DTSTART;TZID=Europe/Berlin:20180703T090000
DTEND;TZID=Europe/Berlin:20180703T170000
DTSTAMP:20180703T085158Z
URL:https://www.marketingclub-muenchen.de/veranstaltungen/influencer-marke
 ting-conference-ideen-inspiration-know-how/
SUMMARY:Influencer Marketing Conference - Ideen + Inspiration + Know-how - 
 Marketing Club München
DESCRIPTION:Auf der 1-tägigen Power-Konferenz zum INFLUENCER MARKETING ref
 erieren Branchenexperten und Influencer über Einsatzmöglichkeiten\, Umsa
 tzbringer und praxistaugliche Lösungen.\nSonderpreis für alle Mitglieder
  des Marketing Club München: € 149\,- (statt € 299\,-) zzgl. MwSt.\n
ATTACH;FMTTYPE=image/jpeg:https://www.marketingclub-muenchen.de/wp-content
 /uploads/teaser-mcm-influencer-marketing-conference.jpg
CATEGORIES:Kooperation
LOCATION:Novotel München City\, Hochstraße 11\, 81669 München
GEO:48.1294074;11.589362499999993
X-APPLE-STRUCTURED-LOCATION;VALUE=URI;X-ADDRESS=Hochstraße 11\, München\,
  Bayern\, 81669\, Deutschland;X-APPLE-RADIUS=100;X-TITLE=Novotel München 
 City:geo:48.1294074,11.589362499999993
END:VEVENT
BEGIN:VTIMEZONE
TZID:Europe/Berlin
X-LIC-LOCATION:Europe/Berlin
BEGIN:DAYLIGHT
DTSTART:20180325T030000
TZOFFSETFROM:+0100
TZOFFSETTO:+0200
TZNAME:CEST
END:DAYLIGHT
END:VTIMEZONE
END:VCALENDAR