BEGIN:VCALENDAR
VERSION:2.0
PRODID:-//wp-events-plugin.com//7.2.3.1//EN
TZID:Europe/Berlin
X-WR-TIMEZONE:Europe/Berlin
BEGIN:VEVENT
UID:522@marketingclub-muenchen.de
DTSTART;TZID=Europe/Berlin:20210609T180000
DTEND;TZID=Europe/Berlin:20210609T200000
DTSTAMP:20220208T145857Z
URL:https://www.marketingclub-muenchen.de/veranstaltungen/ibm-watson-oder-
 wie-kuenstliche-intelligenz-geschaeftsmodelle-und-das-marketing-veraendert
 /
SUMMARY:IBM Watson: Wie Künstliche Intelligenz Geschäftsmodelle und das M
 arketing verändert - Marketing Club München
DESCRIPTION:Im IBM Watson Center Munich entwickeln renommierte Technologie-
  und Branchenexperten innovative Lösungen für die Welt von morgen. Dabei
  kommt der berühmte Supercomputer Watson zum Einsatz\, der große Datenme
 ngen mit hoher Rechenleistung und intelligenten Algorithmen kombiniert. Er
 fahren Sie aus erster Hand\, wie Künstliche Intelligenz nicht nur neue Ge
 schäftsmodelle ermöglicht\, sondern auch das Marketing maßgeblich verä
 ndert.
ATTACH;FMTTYPE=image/jpeg:https://www.marketingclub-muenchen.de/wp-content
 /uploads/teaser-ibm-marketing-club-muenchen-1200x630-2.jpg
CATEGORIES:Vortrag
LOCATION:Online (Wird per Mail an Teilnehmer bekanntgegeben)\, -\,  -
X-APPLE-STRUCTURED-LOCATION;VALUE=URI;X-ADDRESS=-\, -\, Deutschland;X-APPLE
 -RADIUS=100;X-TITLE=Online (Wird per Mail an Teilnehmer bekanntgegeben):ge
 o:0,0
END:VEVENT
BEGIN:VTIMEZONE
TZID:Europe/Berlin
X-LIC-LOCATION:Europe/Berlin
BEGIN:DAYLIGHT
DTSTART:20210328T030000
TZOFFSETFROM:+0100
TZOFFSETTO:+0200
TZNAME:CEST
END:DAYLIGHT
END:VTIMEZONE
END:VCALENDAR