BEGIN:VCALENDAR
VERSION:2.0
PRODID:-//wp-events-plugin.com//7.2.3.1//EN
TZID:Europe/Berlin
X-WR-TIMEZONE:Europe/Berlin
BEGIN:VEVENT
UID:639@marketingclub-muenchen.de
DTSTART;TZID=Europe/Berlin:20240415T183000
DTEND;TZID=Europe/Berlin:20240415T210000
DTSTAMP:20240418T082340Z
URL:https://www.marketingclub-muenchen.de/veranstaltungen/how-to-get-in-to
 uch-with-your-clients-zu-gast-im-bmw-experience-room/
SUMMARY:How to get in Touch with your Clients: Zu Gast im BMW Exclusive Roo
 m - Marketing Club München
DESCRIPTION:Die ikonische BMW Welt ist um eine weitere Anziehung reicher: D
 er neue „Exclusive Room“ schafft ein außergewöhnliches Kundenerlebni
 s bei der Fahrzeugübergabe. Wir werden nicht nur mit allen Sinnen eine ei
 nzigartige Raum-Schöpfung kennenlernen\, sondern auch von wissenschaftlic
 her Seite mehr über die Marketing-Relevanz der Sensorik erfahren.
ATTACH;FMTTYPE=image/jpeg:https://www.marketingclub-muenchen.de/wp-content
 /uploads/teaser_MCM_BMW_Exclusive_Room_1200x630-1.png
CATEGORIES:Marketing vor Ort,Rückblick,Vortrag
LOCATION:BMW Welt\, Am Olympiapark 1\,  München
GEO:48.1768601;11.556582599999956
X-APPLE-STRUCTURED-LOCATION;VALUE=URI;X-ADDRESS=Am Olympiapark 1\, München
 \, 80809\, Deutschland;X-APPLE-RADIUS=100;X-TITLE=BMW Welt:geo:48.1768601,
 11.556582599999956
END:VEVENT
BEGIN:VTIMEZONE
TZID:Europe/Berlin
X-LIC-LOCATION:Europe/Berlin
BEGIN:DAYLIGHT
DTSTART:20240331T030000
TZOFFSETFROM:+0100
TZOFFSETTO:+0200
TZNAME:CEST
END:DAYLIGHT
END:VTIMEZONE
END:VCALENDAR