BEGIN:VCALENDAR
VERSION:2.0
PRODID:-//wp-events-plugin.com//7.2.3.1//EN
TZID:Europe/Berlin
X-WR-TIMEZONE:Europe/Berlin
BEGIN:VEVENT
UID:587@marketingclub-muenchen.de
DTSTART;TZID=Europe/Berlin:20220713T180000
DTEND;TZID=Europe/Berlin:20220713T230000
DTSTAMP:20220803T065114Z
URL:https://www.marketingclub-muenchen.de/veranstaltungen/herzliche-einlad
 ung-zum-2-mcm-sommerfest/
SUMMARY:Herzliche Einladung zum 2. MCM Sommerfest - Marketing Club München
DESCRIPTION:Beim Sommerfest trafen sich die Marketing Club Mitglieder nach 
 zwei Jahren pandemiebedingter Online-Meetings endlich wieder live und in F
 arbe zum persönlichen Austausch und Networking im Biergarten. 
ATTACH;FMTTYPE=image/jpeg:https://www.marketingclub-muenchen.de/wp-content
 /uploads/Bild1-1.png
CATEGORIES:Netzwerk,Rückblick,Sonstige
LOCATION:Park Café\, Sophienstraße 7\, 80333 München
X-APPLE-STRUCTURED-LOCATION;VALUE=URI;X-ADDRESS=Sophienstraße 7\, München
 \, 80333\, Deutschland;X-APPLE-RADIUS=100;X-TITLE=Park Café:geo:0,0
END:VEVENT
BEGIN:VTIMEZONE
TZID:Europe/Berlin
X-LIC-LOCATION:Europe/Berlin
BEGIN:DAYLIGHT
DTSTART:20220327T030000
TZOFFSETFROM:+0100
TZOFFSETTO:+0200
TZNAME:CEST
END:DAYLIGHT
END:VTIMEZONE
END:VCALENDAR