BEGIN:VCALENDAR
VERSION:2.0
PRODID:-//wp-events-plugin.com//7.2.3.1//EN
TZID:Europe/Berlin
X-WR-TIMEZONE:Europe/Berlin
BEGIN:VEVENT
UID:623@marketingclub-muenchen.de
DTSTART;TZID=Europe/Berlin:20231005T183000
DTEND;TZID=Europe/Berlin:20231005T203000
DTSTAMP:20230922T150047Z
URL:https://www.marketingclub-muenchen.de/veranstaltungen/goldener-oktober
 -stammtisch-spazieren-staunen-selbstfuersorge/
SUMMARY:Goldener Oktober (-Stammtisch) – Spazieren\, Staunen\, Selbstfür
 sorge - Marketing Club München
DESCRIPTION:Bei diesem Oktober-Stammtisch nehmen wir uns ein Klassiker-Area
 l in München vor und entdecken einen neuen Aspekt: Wir begeben uns auf ei
 nen Kraft-Weg® rund um die Pinakotheken! Nach einer kurzen Tour für Kör
 per\, Kopf & Geist gibt es wie gewohnt ein Meet&Greet – und zwar in der 
 Brasserie Tresznjewski.
ATTACH;FMTTYPE=image/jpeg:https://www.marketingclub-muenchen.de/wp-content
 /uploads/teaser-mcm-Oktober-Stammtisch_1200x630.png
CATEGORIES:MCM Stammtisch,Netzwerk
LOCATION:Treffpunkt vor dem Museum Brandhorst\, Theresienstraße 35a\, 8033
 3 München
X-APPLE-STRUCTURED-LOCATION;VALUE=URI;X-ADDRESS=Theresienstraße 35a\, Mün
 chen\, Bayern\, 80333\, Deutschland;X-APPLE-RADIUS=100;X-TITLE=Treffpunkt 
 vor dem Museum Brandhorst:geo:0,0
END:VEVENT
BEGIN:VTIMEZONE
TZID:Europe/Berlin
X-LIC-LOCATION:Europe/Berlin
BEGIN:DAYLIGHT
DTSTART:20230326T030000
TZOFFSETFROM:+0100
TZOFFSETTO:+0200
TZNAME:CEST
END:DAYLIGHT
END:VTIMEZONE
END:VCALENDAR