BEGIN:VCALENDAR
VERSION:2.0
PRODID:-//wp-events-plugin.com//7.2.3.1//EN
TZID:Europe/Berlin
X-WR-TIMEZONE:Europe/Berlin
BEGIN:VEVENT
UID:622@marketingclub-muenchen.de
DTSTART;TZID=Europe/Berlin:20231127T183000
DTEND;TZID=Europe/Berlin:20231127T223000
DTSTAMP:20231128T174303Z
URL:https://www.marketingclub-muenchen.de/veranstaltungen/giesinger-braeu-
 wie-die-leidenschaft-zur-marketing-erfolgsstory-wurde/
SUMMARY:Giesinger Bräu - Wie die Leidenschaft zur Marketing-Erfolgsstory w
 urde - Marketing Club München
DESCRIPTION:Eine nicht alltägliche Brauereiführung erwartet uns! Wir erle
 ben hautnah das modernste Brauhaus Bayerns\, blicken tief in die Gärtanks
 \, verkosten das frisch gebraute Giesinger und erfahren\, wie traditionell
 e Braukunst und frisches Marketing die Garagen-Brauerei zu einer Münchner
  Institution machten.
ATTACH;FMTTYPE=image/jpeg:https://www.marketingclub-muenchen.de/wp-content
 /uploads/mcm-teaser-giesinger-marketing-club-muenchen-1200x630-1.jpg
CATEGORIES:Marketing vor Ort,Rückblick
LOCATION:Giesinger Biermanufaktur & Spez. Braugesellschaft mbH\, Werk 2\, D
 etmoldstraße 40\, 80935 München
X-APPLE-STRUCTURED-LOCATION;VALUE=URI;X-ADDRESS=Detmoldstraße 40\, Münche
 n\, Bayern\, 80935\, Deutschland;X-APPLE-RADIUS=100;X-TITLE=Giesinger Bier
 manufaktur & Spez. Braugesellschaft mbH\, Werk 2:geo:0,0
END:VEVENT
BEGIN:VTIMEZONE
TZID:Europe/Berlin
X-LIC-LOCATION:Europe/Berlin
BEGIN:STANDARD
DTSTART:20231029T020000
TZOFFSETFROM:+0200
TZOFFSETTO:+0100
TZNAME:CET
END:STANDARD
END:VTIMEZONE
END:VCALENDAR