BEGIN:VCALENDAR
VERSION:2.0
PRODID:-//wp-events-plugin.com//7.2.3.1//EN
TZID:Europe/Berlin
X-WR-TIMEZONE:Europe/Berlin
BEGIN:VEVENT
UID:551@marketingclub-muenchen.de
DTSTART;TZID=Europe/Berlin:20211116T183000
DTEND;TZID=Europe/Berlin:20211116T203000
DTSTAMP:20211112T141500Z
URL:https://www.marketingclub-muenchen.de/veranstaltungen/gehckt-wie-koenn
 en-wir-uns-schuetzen/
SUMMARY:Geh@ckt: Wie können wir uns schützen? - Marketing Club München
DESCRIPTION:Präsenz-Veranstaltung: Jährlich entstehen der Wirtschaft Sch
 äden in Milliardenhöhe durch Cyberangriffe. Wer sind die Angreifer? Wie 
 sind Ihre Methoden und ihr Vorgehen? Ist auch Ihr Unternehmen gefährdet? 
 Erfahren Sie Erstaunliches und Spannendes aus der Welt der Spionage und le
 rnen Sie\, wie sie Ihr Unternehmen vor Hackerangriffen schützen können. 
ATTACH;FMTTYPE=image/jpeg:https://www.marketingclub-muenchen.de/wp-content
 /uploads/teaser-vs-cyberangriffe-marketing-club-muenchen-1200x630-1.jpg
CATEGORIES:Vortrag
LOCATION:Marketing Club München\, Edelsbergstraße 8\, 80686 München
X-APPLE-STRUCTURED-LOCATION;VALUE=URI;X-ADDRESS=Edelsbergstraße 8\, Münch
 en\, Bayern\, 80686\, Deutschland;X-APPLE-RADIUS=100;X-TITLE=Marketing Clu
 b München:geo:0,0
END:VEVENT
BEGIN:VTIMEZONE
TZID:Europe/Berlin
X-LIC-LOCATION:Europe/Berlin
BEGIN:STANDARD
DTSTART:20211031T020000
TZOFFSETFROM:+0200
TZOFFSETTO:+0100
TZNAME:CET
END:STANDARD
END:VTIMEZONE
END:VCALENDAR