BEGIN:VCALENDAR
VERSION:2.0
PRODID:-//wp-events-plugin.com//7.2.3.1//EN
TZID:Europe/Berlin
X-WR-TIMEZONE:Europe/Berlin
BEGIN:VEVENT
UID:696@marketingclub-muenchen.de
DTSTART;TZID=Europe/Berlin:20250723T160000
DTEND;TZID=Europe/Berlin:20250723T210000
DTSTAMP:20250722T071053Z
URL:https://www.marketingclub-muenchen.de/veranstaltungen/future-lead-2025
 -kooperation-mit-der-campus-m-university/
SUMMARY:Future Lead 2025 – Kooperation mit der Campus M University - Mark
 eting Club München
DESCRIPTION:Am 23. Juli 2025 lädt die Campus M University in München zu F
 UTURE LEAD – dem Event für zukunftsorientiertes Marketing und Managemen
 t. Studierende präsentieren frische Impulse zu Trends wie Corporate Influ
 encing\, gefolgt von Einblicken starker Speaker wie Stephan Schulz-Gohritz
  (MISTER SPEX)\, Dr. Kathrin Risom (SIXT) und Stefan Bögle (CYBEX). FUTUR
 E LEAD verbindet Inspiration\, strategischen Austausch und Networking auf 
 Augenhöhe.
ATTACH;FMTTYPE=image/jpeg:https://www.marketingclub-muenchen.de/wp-content
 /uploads/FUTURE-LEAD_CMU_Ankuendigung_Speaker-line-up.jpg
CATEGORIES:Tagung
LOCATION:Campus M University\, Dachauer Straße 124\, 80637 München
X-APPLE-STRUCTURED-LOCATION;VALUE=URI;X-ADDRESS=Dachauer Straße 124\, Mün
 chen\, Bayern\, 80637\, Deutschland;X-APPLE-RADIUS=100;X-TITLE=Campus M Un
 iversity:geo:0,0
END:VEVENT
BEGIN:VTIMEZONE
TZID:Europe/Berlin
X-LIC-LOCATION:Europe/Berlin
BEGIN:DAYLIGHT
DTSTART:20250330T030000
TZOFFSETFROM:+0100
TZOFFSETTO:+0200
TZNAME:CEST
END:DAYLIGHT
END:VTIMEZONE
END:VCALENDAR