BEGIN:VCALENDAR
VERSION:2.0
PRODID:-//wp-events-plugin.com//7.2.3.1//EN
TZID:Europe/Berlin
X-WR-TIMEZONE:Europe/Berlin
BEGIN:VEVENT
UID:196@marketingclub-muenchen.de
DTSTART;TZID=Europe/Berlin:20070508T190000
DTEND;TZID=Europe/Berlin:20070508T203000
DTSTAMP:20160216T144435Z
URL:https://www.marketingclub-muenchen.de/veranstaltungen/fleurop-ag-ein-i
 nnovativer-marketing-dienstleister/
SUMMARY:Fleurop AG - Ein innovativer Marketing-Dienstleister - Marketing Cl
 ub München
DESCRIPTION:Die Metamorphose einer ursprünglichen Blumenspendenvermittlung
 svereinigung zum umsatzstarken\, dynamischen Unternehmen. Zwischen der Gr
 ündung von Fleurop und der heutigen Marktsituation liegen fast 100 Jahre 
 kontinuierliche Weiterentwicklung des Service- und Produktangebots.
ATTACH;FMTTYPE=image/jpeg:https://www.marketingclub-muenchen.de/wp-content
 /uploads/fleurop_oben.jpg
CATEGORIES:Vortrag
LOCATION:Haus der Bayerischen Wirtschaft\, Max-Jospeph-Str. 5\, 80333 Münc
 hen
GEO:48.1433215;11.569901200000004
X-APPLE-STRUCTURED-LOCATION;VALUE=URI;X-ADDRESS=Max-Jospeph-Str. 5\, Münch
 en\, 80333\, Deutschland;X-APPLE-RADIUS=100;X-TITLE=Haus der Bayerischen W
 irtschaft:geo:48.1433215,11.569901200000004
END:VEVENT
BEGIN:VTIMEZONE
TZID:Europe/Berlin
X-LIC-LOCATION:Europe/Berlin
BEGIN:DAYLIGHT
DTSTART:20070325T030000
TZOFFSETFROM:+0100
TZOFFSETTO:+0200
TZNAME:CEST
END:DAYLIGHT
END:VTIMEZONE
END:VCALENDAR