BEGIN:VCALENDAR
VERSION:2.0
PRODID:-//wp-events-plugin.com//7.2.3.1//EN
TZID:Europe/Berlin
X-WR-TIMEZONE:Europe/Berlin
BEGIN:VEVENT
UID:594@marketingclub-muenchen.de
DTSTART;TZID=Europe/Berlin:20221013T093000
DTEND;TZID=Europe/Berlin:20221013T101500
DTSTAMP:20221011T110202Z
URL:https://www.marketingclub-muenchen.de/veranstaltungen/fireside-chat-wi
 th-bill-watkins-chief-revenue-officer-pinterest/
SUMMARY:Fireside Chat with Bill Watkins\, Chief Revenue Officer Pinterest -
  Marketing Club München
DESCRIPTION:Exklusiver Fireside-Chat mit dem Bill Watkins\, Chief Revenue C
 hef von PINTEREST
ATTACH;FMTTYPE=image/jpeg:https://www.marketingclub-muenchen.de/wp-content
 /uploads/mcm-teaser-pinterest-marketing-club-muenchen-1200x630-1.jpg
CATEGORIES:Vortrag
LOCATION:Zoom\, Zoom\,  Zoom
X-APPLE-STRUCTURED-LOCATION;VALUE=URI;X-ADDRESS=Zoom\, Zoom\, Deutschland;X
 -APPLE-RADIUS=100;X-TITLE=Zoom:geo:0,0
END:VEVENT
BEGIN:VTIMEZONE
TZID:Europe/Berlin
X-LIC-LOCATION:Europe/Berlin
BEGIN:DAYLIGHT
DTSTART:20220327T030000
TZOFFSETFROM:+0100
TZOFFSETTO:+0200
TZNAME:CEST
END:DAYLIGHT
END:VTIMEZONE
END:VCALENDAR