BEGIN:VCALENDAR
VERSION:2.0
PRODID:-//wp-events-plugin.com//7.2.3.1//EN
TZID:Europe/Berlin
X-WR-TIMEZONE:Europe/Berlin
BEGIN:VEVENT
UID:620@marketingclub-muenchen.de
DTSTART;TZID=Europe/Berlin:20230907T183000
DTEND;TZID=Europe/Berlin:20230907T213000
DTSTAMP:20240505T130904Z
URL:https://www.marketingclub-muenchen.de/veranstaltungen/finale-der-stamm
 tisch-rooftop-serie-mit-spaeti-tour/
SUMMARY:Finale der Stammtisch-Rooftop-Serie - mit Späti-Tour - Marketing C
 lub München
DESCRIPTION:Zugabe zu unserer Stammtisch-Serie „über den Dächern Münch
 ens“. Wir treffen uns wieder auf dem Dach einer schönen Location und st
 arten von dort zu einer Späti-Tour. Mit Spezial-Aufgaben. Lasst Euch übe
 rraschen!
ATTACH;FMTTYPE=image/jpeg:https://www.marketingclub-muenchen.de/wp-content
 /uploads/teaser_mcm-Spaeti-Stammtisch_1200x630.png
CATEGORIES:MCM Stammtisch,Netzwerk
LOCATION:Kulturdachgarten Gasteig\, Rosenheimerstraße 5\, 81667 München
X-APPLE-STRUCTURED-LOCATION;VALUE=URI;X-ADDRESS=Rosenheimerstraße 5\, Mün
 chen\, Bayern\, 81667\, Deutschland;X-APPLE-RADIUS=100;X-TITLE=Kulturdachg
 arten Gasteig:geo:0,0
END:VEVENT
BEGIN:VTIMEZONE
TZID:Europe/Berlin
X-LIC-LOCATION:Europe/Berlin
BEGIN:DAYLIGHT
DTSTART:20230326T030000
TZOFFSETFROM:+0100
TZOFFSETTO:+0200
TZNAME:CEST
END:DAYLIGHT
END:VTIMEZONE
END:VCALENDAR