BEGIN:VCALENDAR
VERSION:2.0
PRODID:-//wp-events-plugin.com//7.2.3.1//EN
TZID:Europe/Berlin
X-WR-TIMEZONE:Europe/Berlin
BEGIN:VEVENT
UID:685@marketingclub-muenchen.de
DTSTART;TZID=Europe/Berlin:20250708T183000
DTEND;TZID=Europe/Berlin:20250708T220000
DTSTAMP:20250814T100418Z
URL:https://www.marketingclub-muenchen.de/veranstaltungen/film-fernsehen-u
 nd-markeninszenierung-hautnah-erleben/
SUMMARY:Bavaria Studios: Der Ritt auf einem Drachen und drei wichtige Lekti
 onen für mutigen Handel - Marketing Club München
DESCRIPTION:Erlebt die Welt von Film und TV hautnah! Wir werfen einen exklu
 siven Blick hinter die Kulissen der Bavaria Studios und erfahren von Micha
 el Hilscher\, Sarah Orlandi und Sarah Winter\, wie Marken inszeniert werde
 n. Mit einem spannenden Rundgang\, beeindruckenden Set-Besichtigungen und 
 inspirierenden Case Studies aus der Welt von Check24 und Hugendubel. Seid 
 dabei und lasst euch von kreativen Markenstrategien inspirieren!
ATTACH;FMTTYPE=image/jpeg:https://www.marketingclub-muenchen.de/wp-content
 /uploads/250807-mcm-bavaria-studios-61.jpg
CATEGORIES:Führung vor Ort,Marketing vor Ort,Rückblick,Vortrag
LOCATION:Bavaria Studios\, Bavariafilmplatz 7\, 82031  Grünwald
X-APPLE-STRUCTURED-LOCATION;VALUE=URI;X-ADDRESS=Bavariafilmplatz 7\, Grünw
 ald\, 82031 \, Deutschland;X-APPLE-RADIUS=100;X-TITLE=Bavaria Studios:geo:
 0,0
END:VEVENT
BEGIN:VTIMEZONE
TZID:Europe/Berlin
X-LIC-LOCATION:Europe/Berlin
BEGIN:DAYLIGHT
DTSTART:20250330T030000
TZOFFSETFROM:+0100
TZOFFSETTO:+0200
TZNAME:CEST
END:DAYLIGHT
END:VTIMEZONE
END:VCALENDAR