BEGIN:VCALENDAR
VERSION:2.0
PRODID:-//wp-events-plugin.com//7.2.3.1//EN
TZID:Europe/Berlin
X-WR-TIMEZONE:Europe/Berlin
BEGIN:VEVENT
UID:524@marketingclub-muenchen.de
DTSTART;TZID=Europe/Berlin:20210511T183000
DTEND;TZID=Europe/Berlin:20210511T203000
DTSTAMP:20210512T071930Z
URL:https://www.marketingclub-muenchen.de/veranstaltungen/female-success-w
 as-wir-von-erfolgreichen-frauen-lernen-koennen/
SUMMARY:Female Success – was wir von erfolgreichen Frauen lernen können 
 - Marketing Club München
DESCRIPTION:Erfolg ist längst auch weiblich. In unserer Auftaktveranstaltu
 ng für das Format „MarketingFrauen“ sprechen wir mit drei erfolgreich
 en Frauen über ihre Erfolgsgeheimnisse: Was hat ihnen geholfen? Wie sind 
 sie mit Hindernissen umgegangen? Wie können Frauen sichtbarer werden? Was
  sind gerade heute wichtige Erfolgsfaktoren?
ATTACH;FMTTYPE=image/jpeg:https://www.marketingclub-muenchen.de/wp-content
 /uploads/teaser-femalesuccess-marketing-club-muenchen-1200x630-1.jpg
CATEGORIES:MarketingFrauen,Online-Vortrag,Vortrag
LOCATION:wird noch bekannt gegeben\, .\,  .
X-APPLE-STRUCTURED-LOCATION;VALUE=URI;X-ADDRESS=.\, .\, Deutschland;X-APPLE
 -RADIUS=100;X-TITLE=wird noch bekannt gegeben:geo:0,0
END:VEVENT
BEGIN:VTIMEZONE
TZID:Europe/Berlin
X-LIC-LOCATION:Europe/Berlin
BEGIN:DAYLIGHT
DTSTART:20210328T030000
TZOFFSETFROM:+0100
TZOFFSETTO:+0200
TZNAME:CEST
END:DAYLIGHT
END:VTIMEZONE
END:VCALENDAR