BEGIN:VCALENDAR
VERSION:2.0
PRODID:-//wp-events-plugin.com//7.2.3.1//EN
TZID:Europe/Berlin
X-WR-TIMEZONE:Europe/Berlin
BEGIN:VEVENT
UID:568@marketingclub-muenchen.de
DTSTART;TZID=Europe/Berlin:20220203T180000
DTEND;TZID=Europe/Berlin:20220203T200000
DTSTAMP:20220120T123433Z
URL:https://www.marketingclub-muenchen.de/veranstaltungen/februar-stammtis
 ch-eisstock-netzwerken-sport-und-ratsch/
SUMMARY:Februar-Stammtisch: Eisstock-Netzwerken – Sport und Ratsch - Mark
 eting Club München
DESCRIPTION:Runter vom Sofa und ran an den Eisstock! Wir möchten den Febru
 ar-Stammtisch nutzen\, um das Sportliche mit dem Netzwerken zu verbinden. 
 Schwingen Sie mit uns gemeinsam im Augustiner Keller in bunter Runde den E
 isstock! Danach wärmen wir uns bei traditioneller Speis und Trank wieder 
 auf. \n\n
ATTACH;FMTTYPE=image/jpeg:https://www.marketingclub-muenchen.de/wp-content
 /uploads/Titelbild-MCM-Stammtisch-Februar.jpg
CATEGORIES:MCM Stammtisch,Netzwerk
LOCATION:Augustiner Keller München\, Arnulfstraße 52\, 80335 München
X-APPLE-STRUCTURED-LOCATION;VALUE=URI;X-ADDRESS=Arnulfstraße 52\, München
 \, 80335\, Deutschland;X-APPLE-RADIUS=100;X-TITLE=Augustiner Keller Münch
 en:geo:0,0
END:VEVENT
BEGIN:VTIMEZONE
TZID:Europe/Berlin
X-LIC-LOCATION:Europe/Berlin
BEGIN:STANDARD
DTSTART:20211031T020000
TZOFFSETFROM:+0200
TZOFFSETTO:+0100
TZNAME:CET
END:STANDARD
END:VTIMEZONE
END:VCALENDAR