BEGIN:VCALENDAR
VERSION:2.0
PRODID:-//wp-events-plugin.com//7.2.3.1//EN
TZID:Europe/Berlin
X-WR-TIMEZONE:Europe/Berlin
BEGIN:VEVENT
UID:663@marketingclub-muenchen.de
DTSTART;TZID=Europe/Berlin:20241205T174500
DTEND;TZID=Europe/Berlin:20241205T220000
DTSTAMP:20241212T121455Z
URL:https://www.marketingclub-muenchen.de/veranstaltungen/einladung-zum-4-
 eisstockschiessen-und-zur-weihnachtsfeier/
SUMMARY:4. Eisstockschießen und Weihnachtsfeier - Marketing Club München
DESCRIPTION:Wir treffen uns zum 4. MCM Eisstockschießen\, um gemeinsam das
  Clubjahr des MCM sportlich und gesellig auszuläuten. Auf drei Eisbahnen 
 testen wir unsere Treffsicherheit und nutzen bei der anschließenden Weihn
 achtsfeier die Gelegenheit zum Networking. Ein unterhaltsamer Abend ist ga
 rantiert! Die Plätze sind begrenzt - meldet Euch daher schnell an!\n
ATTACH;FMTTYPE=image/jpeg:https://www.marketingclub-muenchen.de/wp-content
 /uploads/teaser_mcm_eisstockschiessen.png
CATEGORIES:Netzwerk,Rückblick
LOCATION:Königlicher Hirschgarten\, Hirschgarten 1\, 80639 München
X-APPLE-STRUCTURED-LOCATION;VALUE=URI;X-ADDRESS=Hirschgarten 1\, München\,
  80639\, Deutschland;X-APPLE-RADIUS=100;X-TITLE=Königlicher Hirschgarten:
 geo:0,0
END:VEVENT
BEGIN:VTIMEZONE
TZID:Europe/Berlin
X-LIC-LOCATION:Europe/Berlin
BEGIN:STANDARD
DTSTART:20241027T020000
TZOFFSETFROM:+0200
TZOFFSETTO:+0100
TZNAME:CET
END:STANDARD
END:VTIMEZONE
END:VCALENDAR