BEGIN:VCALENDAR
VERSION:2.0
PRODID:-//wp-events-plugin.com//7.2.3.1//EN
TZID:Europe/Berlin
X-WR-TIMEZONE:Europe/Berlin
BEGIN:VEVENT
UID:159@marketingclub-muenchen.de
DTSTART;TZID=Europe/Berlin:20071004T193000
DTEND;TZID=Europe/Berlin:20071004T210000
DTSTAMP:20160208T122944Z
URL:https://www.marketingclub-muenchen.de/veranstaltungen/dm-drogerie-mark
 t-unternehmer-als-realtraeumer/
SUMMARY:dm-drogerie markt: Unternehmer als Realträumer - Marketing Club M
 ünchen
DESCRIPTION:Wie etwa Visionen oder Träume ein Unternehmen dauerhaft erfolg
 reich machen\, veranschaulichte Prof. Götz W. Werner\, Gründer und gesch
 äftsführender Gesellschafter vom dm-drogerie markt den Mitgliedern des M
 arketing-Club München.
ATTACH;FMTTYPE=image/jpeg:https://www.marketingclub-muenchen.de/wp-content
 /uploads/dm_werner.jpg
CATEGORIES:Vortrag
END:VEVENT
BEGIN:VTIMEZONE
TZID:Europe/Berlin
X-LIC-LOCATION:Europe/Berlin
BEGIN:DAYLIGHT
DTSTART:20070325T030000
TZOFFSETFROM:+0100
TZOFFSETTO:+0200
TZNAME:CEST
END:DAYLIGHT
END:VTIMEZONE
END:VCALENDAR