BEGIN:VCALENDAR
VERSION:2.0
PRODID:-//wp-events-plugin.com//7.2.3.1//EN
TZID:Europe/Berlin
X-WR-TIMEZONE:Europe/Berlin
BEGIN:VEVENT
UID:627@marketingclub-muenchen.de
DTSTART;TZID=Europe/Berlin:20240123T183000
DTEND;TZID=Europe/Berlin:20240123T210000
DTSTAMP:20240711T091757Z
URL:https://www.marketingclub-muenchen.de/veranstaltungen/disruptive-china
 -wie-alibaba-temu-nio-co-die-digitalen-trends-fuer-2024-praegen/
SUMMARY:Disruptive China - wie Alibaba\, Temu\, NIO & Co. die digitalen Tre
 nds für 2024 prägen - Marketing Club München
DESCRIPTION:Während viele den digitalen Trends aus den USA folgen\, revolu
 tioniert China still und heimlich den globalen Markt. In "Disruptive China
 " gingen wir auf eine kurzen Reise mit tiefen Einblicken in bahnbrechende 
 Trends aus Asien!
ATTACH;FMTTYPE=image/jpeg:https://www.marketingclub-muenchen.de/wp-content
 /uploads/mcm-teaser-china-marketing-club-muenchen-1200x630-2.jpg
CATEGORIES:Rückblick,Vortrag
LOCATION:Haus der Kommunikation\, Friedenstraße 24\, 81671  München
X-APPLE-STRUCTURED-LOCATION;VALUE=URI;X-ADDRESS=Friedenstraße 24\, Münche
 n\, 81671 \, Deutschland;X-APPLE-RADIUS=100;X-TITLE=Haus der Kommunikation
 :geo:0,0
END:VEVENT
BEGIN:VTIMEZONE
TZID:Europe/Berlin
X-LIC-LOCATION:Europe/Berlin
BEGIN:STANDARD
DTSTART:20231029T020000
TZOFFSETFROM:+0200
TZOFFSETTO:+0100
TZNAME:CET
END:STANDARD
END:VTIMEZONE
END:VCALENDAR