BEGIN:VCALENDAR
VERSION:2.0
PRODID:-//wp-events-plugin.com//7.2.3.1//EN
TZID:Europe/Berlin
X-WR-TIMEZONE:Europe/Berlin
BEGIN:VEVENT
UID:545@marketingclub-muenchen.de
DTSTART;TZID=Europe/Berlin:20211021T183000
DTEND;TZID=Europe/Berlin:20211021T200000
DTSTAMP:20211022T093808Z
URL:https://www.marketingclub-muenchen.de/veranstaltungen/digital-business
 -fuer-mehr-wachstum-wie-nestle-die-test-learn-revolution-meistert/
SUMMARY:Digital Business für mehr Wachstum - Wie Nestlé die Test & Learn 
 Revolution meistert! - Marketing Club München
DESCRIPTION:In beiden Impulsvorträgen werden unsere Referenten einen deep-
 dive in die Test & Learn Methodik sowie einen Einblick in einen konkreten 
 Innovations-Case geben – und damit die Gelegenheit\, sich konkrete Tools
  und Best Practices einer der führenden Konsumgüterhersteller anzueignen
 .
ATTACH;FMTTYPE=image/jpeg:https://www.marketingclub-muenchen.de/wp-content
 /uploads/teaser-nestle-marketing-club-muenchen-1200x630-2.jpg
CATEGORIES:Online-Vortrag
LOCATION:Zoom Raum https://us02web.zoom.us/j/88135507231\, Zoom\,  Zoom
X-APPLE-STRUCTURED-LOCATION;VALUE=URI;X-ADDRESS=Zoom\, Zoom\, Deutschland;X
 -APPLE-RADIUS=100;X-TITLE=Zoom Raum https://us02web.zoom.us/j/88135507231:
 geo:0,0
END:VEVENT
BEGIN:VTIMEZONE
TZID:Europe/Berlin
X-LIC-LOCATION:Europe/Berlin
BEGIN:DAYLIGHT
DTSTART:20210328T030000
TZOFFSETFROM:+0100
TZOFFSETTO:+0200
TZNAME:CEST
END:DAYLIGHT
END:VTIMEZONE
END:VCALENDAR