BEGIN:VCALENDAR
VERSION:2.0
PRODID:-//wp-events-plugin.com//7.2.3.1//EN
TZID:Europe/Berlin
X-WR-TIMEZONE:Europe/Berlin
BEGIN:VEVENT
UID:187@marketingclub-muenchen.de
DTSTART;TZID=Europe/Berlin:20140212T180000
DTEND;TZID=Europe/Berlin:20140212T193000
DTSTAMP:20160210T143409Z
URL:https://www.marketingclub-muenchen.de/veranstaltungen/die-seele-der-bi
 lder-dr-haller-und-die-sammlung-serviceplan-kunst-und-kommunikation/
SUMMARY:Die Seele der Bilder: Dr. Haller und die Sammlung Serviceplan - Kun
 st und Kommunikation - Marketing Club München
DESCRIPTION:Bereits um 18 Uhr empfing uns Dr. Peter Haller im Haus der Komm
 unikation\, der Heimat von Serviceplan in der Münchener Brienner Strasse.
ATTACH;FMTTYPE=image/jpeg:https://www.marketingclub-muenchen.de/wp-content
 /uploads/haller_mcm.jpg
CATEGORIES:Netzwerk
LOCATION:Serviceplan Gruppe\, Brienner Str.\,  München
GEO:48.1449197;11.568364699999961
X-APPLE-STRUCTURED-LOCATION;VALUE=URI;X-ADDRESS=Brienner Str.\, München\, 
 Deutschland;X-APPLE-RADIUS=100;X-TITLE=Serviceplan Gruppe:geo:48.1449197,1
 1.568364699999961
END:VEVENT
BEGIN:VTIMEZONE
TZID:Europe/Berlin
X-LIC-LOCATION:Europe/Berlin
BEGIN:STANDARD
DTSTART:20131027T020000
TZOFFSETFROM:+0200
TZOFFSETTO:+0100
TZNAME:CET
END:STANDARD
END:VTIMEZONE
END:VCALENDAR