BEGIN:VCALENDAR
VERSION:2.0
PRODID:-//wp-events-plugin.com//7.2.3.1//EN
TZID:Europe/Berlin
X-WR-TIMEZONE:Europe/Berlin
BEGIN:VEVENT
UID:216@marketingclub-muenchen.de
DTSTART;TZID=Europe/Berlin:20090312T193000
DTEND;TZID=Europe/Berlin:20090312T210000
DTSTAMP:20160221T191914Z
URL:https://www.marketingclub-muenchen.de/veranstaltungen/die-besten-der-b
 ranche-praesentation-der-adam-eva-awards-2008/
SUMMARY:Die Besten der Branche - Präsentation der ADAM & EVA Awards 2008 -
  Marketing Club München
DESCRIPTION:Der Marketing-Club präsentiert in einer unterhaltenden Vorstel
 lung die Gewinner der ADAM & EVA Awards 2008. Ein abwechslungsreicher Aben
 d zum Thema Face-to-Face Kommunikation erwartet Sie.
ATTACH;FMTTYPE=image/jpeg:https://www.marketingclub-muenchen.de/wp-content
 /uploads/MCM_Teaser-e1454670837498.jpg
CATEGORIES:Vortrag
LOCATION:Serviceplan Gruppe\, Brienner Str.\,  München
GEO:48.1449197;11.568364699999961
X-APPLE-STRUCTURED-LOCATION;VALUE=URI;X-ADDRESS=Brienner Str.\, München\, 
 Deutschland;X-APPLE-RADIUS=100;X-TITLE=Serviceplan Gruppe:geo:48.1449197,1
 1.568364699999961
END:VEVENT
BEGIN:VTIMEZONE
TZID:Europe/Berlin
X-LIC-LOCATION:Europe/Berlin
BEGIN:STANDARD
DTSTART:20081026T020000
TZOFFSETFROM:+0200
TZOFFSETTO:+0100
TZNAME:CET
END:STANDARD
END:VTIMEZONE
END:VCALENDAR