BEGIN:VCALENDAR
VERSION:2.0
PRODID:-//wp-events-plugin.com//7.2.3.1//EN
TZID:Europe/Berlin
X-WR-TIMEZONE:Europe/Berlin
BEGIN:VEVENT
UID:708@marketingclub-muenchen.de
DTSTART;TZID=Europe/Berlin:20251204T183000
DTEND;TZID=Europe/Berlin:20251204T210000
DTSTAMP:20251204T114522Z
URL:https://www.marketingclub-muenchen.de/veranstaltungen/dezember-stammti
 sch-weihnachtsmarkt-hoch-3/
SUMMARY:Dezember-Stammtisch: Weihnachtsmarkt hoch 3 - Marketing Club Münch
 en
DESCRIPTION:"Weihnachtsmarkt hoch 3" lautet das Motto für unseren Stammtis
 ch im Dezember. Allzu weit laufen müssen wir nicht: Wir starten ganz klas
 sisch mit dem Münchner Christkindlmarkt am Marienplatz\, arbeiten uns zum
   Münchner Adventsspektakel und Weihnachtsdorf im Kaiserhof der Residenz 
 vor und beenden den Abend am Mittelalterlicher Weihnachtsmarkt am Wittelsb
 acher Platz. Lernt drei bezaubernde Weihnachtsmärkte in München und nett
 e Marketing-Kollegen kennen!
ATTACH;FMTTYPE=image/jpeg:https://www.marketingclub-muenchen.de/wp-content
 /uploads/teaser-mcm-weihnachtsmarkt.png
CATEGORIES:MCM Stammtisch,Netzwerk
LOCATION:Treffpunkt Fischbrunnen am Marienplatz\, Marienplatz 8\, 80331 Mü
 nchen
X-APPLE-STRUCTURED-LOCATION;VALUE=URI;X-ADDRESS=Marienplatz 8\, München\, 
 80331\, Deutschland;X-APPLE-RADIUS=100;X-TITLE=Treffpunkt Fischbrunnen am 
 Marienplatz:geo:0,0
END:VEVENT
BEGIN:VTIMEZONE
TZID:Europe/Berlin
X-LIC-LOCATION:Europe/Berlin
BEGIN:STANDARD
DTSTART:20251026T020000
TZOFFSETFROM:+0200
TZOFFSETTO:+0100
TZNAME:CET
END:STANDARD
END:VTIMEZONE
END:VCALENDAR