BEGIN:VCALENDAR
VERSION:2.0
PRODID:-//wp-events-plugin.com//7.2.3.1//EN
TZID:Europe/Berlin
X-WR-TIMEZONE:Europe/Berlin
BEGIN:VEVENT
UID:138@marketingclub-muenchen.de
DTSTART;TZID=Europe/Berlin:20080403T193000
DTEND;TZID=Europe/Berlin:20080403T210000
DTSTAMP:20160203T103750Z
URL:https://www.marketingclub-muenchen.de/veranstaltungen/deutschland-2020
 -wie-wir-in-zukunft-arbeiten-und-leben/
SUMMARY:Deutschland 2020: Wie wir in Zukunft arbeiten und leben - Marketing
  Club München
DESCRIPTION:Wohin geht die Reise? Der Anspruchsstaat ist nicht länger beza
 hlbar. Die fetten Jahre sind vorbei. Wenig Anlass zu Optimismus? Prof. Dr.
  Horst W. Opaschowski\, wissenschaftlicher Leiter der BAT Stiftung für Zu
 kunftsfragen und "wissenschaftlicher Vordenker"\, gab uns einen qualifizie
 rten Einblick in die Zukunft.
ATTACH;FMTTYPE=image/jpeg:https://www.marketingclub-muenchen.de/wp-content
 /uploads/opaschowski.jpg
CATEGORIES:Rückblick,Vortrag
LOCATION:BMW Lenbachplatz\, Lenbachplatz 1\, 80333 München
GEO:48.1411245;11.567102699999964
X-APPLE-STRUCTURED-LOCATION;VALUE=URI;X-ADDRESS=Lenbachplatz 1\, München\,
  80333\, Deutschland;X-APPLE-RADIUS=100;X-TITLE=BMW Lenbachplatz:geo:48.14
 11245,11.567102699999964
END:VEVENT
BEGIN:VTIMEZONE
TZID:Europe/Berlin
X-LIC-LOCATION:Europe/Berlin
BEGIN:DAYLIGHT
DTSTART:20080330T030000
TZOFFSETFROM:+0100
TZOFFSETTO:+0200
TZNAME:CEST
END:DAYLIGHT
END:VTIMEZONE
END:VCALENDAR