BEGIN:VCALENDAR
VERSION:2.0
PRODID:-//wp-events-plugin.com//7.2.3.1//EN
TZID:Europe/Berlin
X-WR-TIMEZONE:Europe/Berlin
BEGIN:VEVENT
UID:399@marketingclub-muenchen.de
DTSTART;TZID=Europe/Berlin:20190516T180000
DTEND;TZID=Europe/Berlin:20190516T210000
DTSTAMP:20190528T150348Z
URL:https://www.marketingclub-muenchen.de/veranstaltungen/designing-future
 -zukunftsrelevante-themen-fuer-medien-und-unternehmen/
SUMMARY:Designing Future - Zukunftsrelevante Themen für Medien und Unterne
 hmen - Marketing Club München
DESCRIPTION:Einladung zu einem besonderen Event an einer besonderen Locatio
 n: Zum VZB Kaminabendbegrüßt uns der Wort & Bild Verlag im Süden Münc
 hens. Andreas Arntzen (Wort & Bild Verlag) und Harry Gatterer (Zukunftsins
 titut) blicken mit und für uns in die Zukunft der Medien und Unternehmen.
ATTACH;FMTTYPE=image/jpeg:https://www.marketingclub-muenchen.de/wp-content
 /uploads/teaser-wort-bild-marketing-club-muenchen-neu.jpg
CATEGORIES:Kooperation,Marketing vor Ort,Rückblick,Vortrag
LOCATION:Wort & Bild Verlag GmbH\, Wolfratshauser Str. 11\, 82065 Baierbrun
 n bei München
X-APPLE-STRUCTURED-LOCATION;VALUE=URI;X-ADDRESS=Wolfratshauser Str. 11\, Ba
 ierbrunn bei München\, 82065\, Deutschland;X-APPLE-RADIUS=100;X-TITLE=Wor
 t & Bild Verlag GmbH:geo:0,0
END:VEVENT
BEGIN:VTIMEZONE
TZID:Europe/Berlin
X-LIC-LOCATION:Europe/Berlin
BEGIN:DAYLIGHT
DTSTART:20190331T030000
TZOFFSETFROM:+0100
TZOFFSETTO:+0200
TZNAME:CEST
END:DAYLIGHT
END:VTIMEZONE
END:VCALENDAR