BEGIN:VCALENDAR
VERSION:2.0
PRODID:-//wp-events-plugin.com//7.2.3.1//EN
TZID:Europe/Berlin
X-WR-TIMEZONE:Europe/Berlin
BEGIN:VEVENT
UID:259@marketingclub-muenchen.de
DTSTART;TZID=Europe/Berlin:20091012T193000
DTEND;TZID=Europe/Berlin:20091012T210000
DTSTAMP:20160309T202355Z
URL:https://www.marketingclub-muenchen.de/veranstaltungen/der-mobile-digit
 ale-kunde-marketing-und-kommunikation-der-zukunft/
SUMMARY:Der mobile digitale Kunde - Marketing und Kommunikation der Zukunft
  - Marketing Club München
DESCRIPTION:Apple gilt als eines der innovativsten Unternehmen der Welt und
  hat mit dem iPod\, dem Mac und dem iPhone den Markt revolutioniert. Auch 
 die Medienwelt ist derzeit im Umbruch. Auf dieser Veranstaltung wollen wir
  genau diese Trends aufgreifen\, erklären\, Auswirkungen beleuchten und L
 ösungen aufzeigen.
ATTACH;FMTTYPE=image/jpeg:https://www.marketingclub-muenchen.de/wp-content
 /uploads/MCM_Teaser-e1454670837498.jpg
CATEGORIES:Vortrag
LOCATION:Apple\, Arnulstr. 19\,  München
GEO:48.142691;11.551725099999999
X-APPLE-STRUCTURED-LOCATION;VALUE=URI;X-ADDRESS=Arnulstr. 19\, München\, D
 eutschland;X-APPLE-RADIUS=100;X-TITLE=Apple:geo:48.142691,11.5517250999999
 99
END:VEVENT
BEGIN:VTIMEZONE
TZID:Europe/Berlin
X-LIC-LOCATION:Europe/Berlin
BEGIN:DAYLIGHT
DTSTART:20090329T030000
TZOFFSETFROM:+0100
TZOFFSETTO:+0200
TZNAME:CEST
END:DAYLIGHT
END:VTIMEZONE
END:VCALENDAR