BEGIN:VCALENDAR
VERSION:2.0
PRODID:-//wp-events-plugin.com//7.2.3.1//EN
TZID:Europe/Berlin
X-WR-TIMEZONE:Europe/Berlin
BEGIN:VEVENT
UID:121@marketingclub-muenchen.de
DTSTART;TZID=Europe/Berlin:20080917T193000
DTEND;TZID=Europe/Berlin:20080917T223000
DTSTAMP:20160119T064122Z
URL:https://www.marketingclub-muenchen.de/veranstaltungen/debatingjims-neu
 romarketing-messung-und-wirkung-von-markenemotionen/
SUMMARY:Debating@JiMs - Neuromarketing: Messung und Wirkung von Markenemoti
 onen. - Marketing Club München
DESCRIPTION:Messung und Wirkung von Markenemotionen. Neuromarketing als neu
 er verhaltenswissenschaftlicher Ansatz.
ATTACH;FMTTYPE=image/jpeg:https://www.marketingclub-muenchen.de/wp-content
 /uploads/JuMPDay.jpg
CATEGORIES:Marketing Pioniere
LOCATION:Impler High Five\, Implerstr. 11\, 81371 München
GEO:48.122789;11.548747000000049
X-APPLE-STRUCTURED-LOCATION;VALUE=URI;X-ADDRESS=Implerstr. 11\, München\, 
 81371\, Deutschland;X-APPLE-RADIUS=100;X-TITLE=Impler High Five:geo:48.122
 789,11.548747000000049
END:VEVENT
BEGIN:VTIMEZONE
TZID:Europe/Berlin
X-LIC-LOCATION:Europe/Berlin
BEGIN:DAYLIGHT
DTSTART:20080330T030000
TZOFFSETFROM:+0100
TZOFFSETTO:+0200
TZNAME:CEST
END:DAYLIGHT
END:VTIMEZONE
END:VCALENDAR