BEGIN:VCALENDAR
VERSION:2.0
PRODID:-//wp-events-plugin.com//7.2.3.1//EN
TZID:Europe/Berlin
X-WR-TIMEZONE:Europe/Berlin
BEGIN:VEVENT
UID:119@marketingclub-muenchen.de
DTSTART;TZID=Europe/Berlin:20120614T193000
DTEND;TZID=Europe/Berlin:20120614T223000
DTSTAMP:20160119T063428Z
URL:https://www.marketingclub-muenchen.de/veranstaltungen/debatingjim-inno
 vationsmanagement-reihe/
SUMMARY:Debating@JiM - Innovationsmanagement-Reihe - Marketing Club Münche
 n
DESCRIPTION:Dr. Liehr setzt uns in seinem Beitrag die ersten Schritte im In
 novationszyklus auseinander und erklärt\, wie Marktforschung dazu genutzt
  werden kann\, Innovationspotenziale im eigenen Unternehmen zu entdecken.
CATEGORIES:Marketing Pioniere
LOCATION:TNS Infratest\, Landsberger Str. 284\, 80687 München
GEO:48.1429752;11.505680799999936
X-APPLE-STRUCTURED-LOCATION;VALUE=URI;X-ADDRESS=Landsberger Str. 284\, Mün
 chen\, 80687\, Deutschland;X-APPLE-RADIUS=100;X-TITLE=TNS Infratest:geo:48
 .1429752,11.505680799999936
END:VEVENT
BEGIN:VTIMEZONE
TZID:Europe/Berlin
X-LIC-LOCATION:Europe/Berlin
BEGIN:DAYLIGHT
DTSTART:20120325T030000
TZOFFSETFROM:+0100
TZOFFSETTO:+0200
TZNAME:CEST
END:DAYLIGHT
END:VTIMEZONE
END:VCALENDAR