BEGIN:VCALENDAR
VERSION:2.0
PRODID:-//wp-events-plugin.com//7.2.3.1//EN
TZID:Europe/Berlin
X-WR-TIMEZONE:Europe/Berlin
BEGIN:VEVENT
UID:291@marketingclub-muenchen.de
DTSTART;TZID=Europe/Berlin:20160927T193000
DTEND;TZID=Europe/Berlin:20160927T210000
DTSTAMP:20161019T070357Z
URL:https://www.marketingclub-muenchen.de/veranstaltungen/das-phaenomen-th
 ermomix-eine-erfolgsstory-der-digitalen-transformation/
SUMMARY:Das Phänomen Thermomix: eine Erfolgsstory der digitalen Transforma
 tion - Marketing Club München
DESCRIPTION:Der Thermomix wurde in kürzester Zeit zum Kultobjekt in europ
 äischen Küchen. Er ist Ausgangspunkt für die digitale Transformation de
 s Geschäftsmodells von Vorwerk. Hinter dem Erfolg steckt eine spannende M
 arketing- und IP-Strategie\, die den Thermomix in der Kundenwahrnehmung un
 d Kundenbindung einzigartig macht.
ATTACH;FMTTYPE=image/jpeg:https://www.marketingclub-muenchen.de/wp-content
 /uploads/Teaser-Thermomix.jpg
CATEGORIES:Vortrag
LOCATION:Design Offices Highlight Towers\, Mies-van-der-Rohe Straße 8\, To
 wer 2\, 80807 München
GEO:48.17646;11.592211499999962
X-APPLE-STRUCTURED-LOCATION;VALUE=URI;X-ADDRESS=Mies-van-der-Rohe Straße 8
 \, Tower 2\, München\, 80807\, Deutschland;X-APPLE-RADIUS=100;X-TITLE=Des
 ign Offices Highlight Towers:geo:48.17646,11.592211499999962
END:VEVENT
BEGIN:VTIMEZONE
TZID:Europe/Berlin
X-LIC-LOCATION:Europe/Berlin
BEGIN:DAYLIGHT
DTSTART:20160327T030000
TZOFFSETFROM:+0100
TZOFFSETTO:+0200
TZNAME:CEST
END:DAYLIGHT
END:VTIMEZONE
END:VCALENDAR