BEGIN:VCALENDAR
VERSION:2.0
PRODID:-//wp-events-plugin.com//7.2.3.1//EN
TZID:Europe/Berlin
X-WR-TIMEZONE:Europe/Berlin
BEGIN:VEVENT
UID:634@marketingclub-muenchen.de
DTSTART;TZID=Europe/Berlin:20240320T183000
DTEND;TZID=Europe/Berlin:20240320T213000
DTSTAMP:20240206T110548Z
URL:https://www.marketingclub-muenchen.de/veranstaltungen/corporate-art-co
 ncepts-die-macht-der-kunst-im-unternehmen/
SUMMARY:Corporate Art Concepts - Die Macht der Kunst im Unternehmen - Marke
 ting Club München
DESCRIPTION:Corporate Art hat vielschichtige Aspekte und Zielsetzungen. Wie
  unterscheidet sich das Konzept des 5-Sterne Hotels in Berlin von der Umse
 tzung für eine etablierte Steuerkanzlei in München?\nLernen Sie mehr üb
 er Kunst im Unternehmen am Beispiel der ARTOUI Corporate Art Concepts. Las
 sen Sie sich vor Ort in der ARTOUI Concept Gallery inspirieren!\n
ATTACH;FMTTYPE=image/jpeg:https://www.marketingclub-muenchen.de/wp-content
 /uploads/mcm-teaserbild-artoui.png
CATEGORIES:Marketing vor Ort,Netzwerk
LOCATION:ARTOUI Concept Gallery\, Isartorplatz 4\, 80331 München
X-APPLE-STRUCTURED-LOCATION;VALUE=URI;X-ADDRESS=Isartorplatz 4\, München\,
  Bayern\, 80331\, Deutschland;X-APPLE-RADIUS=100;X-TITLE=ARTOUI Concept Ga
 llery:geo:0,0
END:VEVENT
BEGIN:VTIMEZONE
TZID:Europe/Berlin
X-LIC-LOCATION:Europe/Berlin
BEGIN:STANDARD
DTSTART:20231029T020000
TZOFFSETFROM:+0200
TZOFFSETTO:+0100
TZNAME:CET
END:STANDARD
END:VTIMEZONE
END:VCALENDAR