BEGIN:VCALENDAR
VERSION:2.0
PRODID:-//wp-events-plugin.com//7.2.3.1//EN
TZID:Europe/Berlin
X-WR-TIMEZONE:Europe/Berlin
BEGIN:VEVENT
UID:433@marketingclub-muenchen.de
DTSTART;TZID=Europe/Berlin:20191114T190000
DTEND;TZID=Europe/Berlin:20191114T220000
DTSTAMP:20191202T170154Z
URL:https://www.marketingclub-muenchen.de/veranstaltungen/china-abend/
SUMMARY:Wie erreicht man 1\,4 Milliarden Chinesen? - Marketing Club Münche
 n
DESCRIPTION:Der gigantische Markt China lockt. Doch wie lassen sich 1\,4 Mr
 d. Chinesen erreichen? Antworten auf diese Fragen und weitere spannende In
 sights geben China-Spezialisten am China-Abend des Marketing Club München
 \, in Kooperation mit dem Chinaforum Bayern. Partner der Veranstaltung ist
  das Bayerische Staatsministerium für Wirtschaft\, Landesentwicklung und 
 Energie. Bitte beachten Sie\, dass eine Teilnahme nur mit vorheriger Anmel
 dung und unter Vorlage eines Lichtbildausweises vor Ort möglich ist.
ATTACH;FMTTYPE=image/jpeg:https://www.marketingclub-muenchen.de/wp-content
 /uploads/China_Referenten_Fotos_191017.jpg
CATEGORIES:Rückblick,Vortrag
LOCATION:Bayerisches Staatsministerium für Wirtschaft\, Landesentwicklung 
 und Energie\, Prinzregentenstr. 28\, 80538 München
X-APPLE-STRUCTURED-LOCATION;VALUE=URI;X-ADDRESS=Prinzregentenstr. 28\, Mün
 chen\, 80538\, Deutschland;X-APPLE-RADIUS=100;X-TITLE=Bayerisches Staatsmi
 nisterium für Wirtschaft\, Landesentwicklung und Energie:geo:0,0
END:VEVENT
BEGIN:VTIMEZONE
TZID:Europe/Berlin
X-LIC-LOCATION:Europe/Berlin
BEGIN:STANDARD
DTSTART:20191027T020000
TZOFFSETFROM:+0200
TZOFFSETTO:+0100
TZNAME:CET
END:STANDARD
END:VTIMEZONE
END:VCALENDAR