BEGIN:VCALENDAR
VERSION:2.0
PRODID:-//wp-events-plugin.com//7.2.3.1//EN
TZID:Europe/Berlin
X-WR-TIMEZONE:Europe/Berlin
BEGIN:VEVENT
UID:250@marketingclub-muenchen.de
DTSTART;TZID=Europe/Berlin:20130523T193000
DTEND;TZID=Europe/Berlin:20130523T210000
DTSTAMP:20160222T111258Z
URL:https://www.marketingclub-muenchen.de/veranstaltungen/bulthaup-die-per
 fekte-kueche/
SUMMARY:Bulthaup - Die perfekte Küche - Marketing Club München
DESCRIPTION:„Eine Premiummarke erfolgreich führen.“ So lässt sich der
  Vortrag des CEO\, Marc. O. Eckert\, bei der Marketing Veranstaltung vor O
 rt bei dem Küchenhersteller bulthaup charakterisieren. In einer packenden
  Präsentation vermittelte der Enkel des Firmengründers den Teilnehmern d
 ie Unternehmenskultur und die Leitsätze seines Unternehmens.
ATTACH;FMTTYPE=image/jpeg:https://www.marketingclub-muenchen.de/wp-content
 /uploads/2016/02/bulthaup.jpg
CATEGORIES:Exklusivkreis,Marketing vor Ort
END:VEVENT
BEGIN:VTIMEZONE
TZID:Europe/Berlin
X-LIC-LOCATION:Europe/Berlin
BEGIN:DAYLIGHT
DTSTART:20130331T030000
TZOFFSETFROM:+0100
TZOFFSETTO:+0200
TZNAME:CEST
END:DAYLIGHT
END:VTIMEZONE
END:VCALENDAR