BEGIN:VCALENDAR
VERSION:2.0
PRODID:-//wp-events-plugin.com//7.2.3.1//EN
TZID:Europe/Berlin
X-WR-TIMEZONE:Europe/Berlin
BEGIN:VEVENT
UID:283@marketingclub-muenchen.de
DTSTART;TZID=Europe/Berlin:20160921T193000
DTEND;TZID=Europe/Berlin:20160921T210000
DTSTAMP:20160928T095542Z
URL:https://www.marketingclub-muenchen.de/veranstaltungen/brand-me-der-weg
 -zur-erfolgreichen-eigen-pr/
SUMMARY:Brand me! Der Weg zur erfolgreichen Eigen-PR - Marketing Club Münc
 hen
DESCRIPTION:Für andere können sie das in der Regel ganz toll - sich selbs
 t ins rechte Licht zu rücken\, fällt Frauen dagegen oft noch schwer. In 
 ihrem Vortrag zeigt Christiane Wolff\, wie sie ihren eigenen Weg zur erfol
 greichen Eigen-PR gefunden hat und gibt Tipps\, wie das jede Frau auch fü
 r sich umsetzen kann.
ATTACH;FMTTYPE=image/jpeg:https://www.marketingclub-muenchen.de/wp-content
 /uploads/Teaser-Christiane-Wolff.jpg
CATEGORIES:MarketingFrauen,Rückblick,Vortrag
LOCATION:Haus der Bayerischen Wirtschaft\, Max-Jospeph-Str. 5\, 80333 Münc
 hen
GEO:48.1433215;11.569901200000004
X-APPLE-STRUCTURED-LOCATION;VALUE=URI;X-ADDRESS=Max-Jospeph-Str. 5\, Münch
 en\, 80333\, Deutschland;X-APPLE-RADIUS=100;X-TITLE=Haus der Bayerischen W
 irtschaft:geo:48.1433215,11.569901200000004
END:VEVENT
BEGIN:VTIMEZONE
TZID:Europe/Berlin
X-LIC-LOCATION:Europe/Berlin
BEGIN:DAYLIGHT
DTSTART:20160327T030000
TZOFFSETFROM:+0100
TZOFFSETTO:+0200
TZNAME:CEST
END:DAYLIGHT
END:VTIMEZONE
END:VCALENDAR