BEGIN:VCALENDAR
VERSION:2.0
PRODID:-//wp-events-plugin.com//7.2.3.1//EN
TZID:Europe/Berlin
X-WR-TIMEZONE:Europe/Berlin
BEGIN:VEVENT
UID:152@marketingclub-muenchen.de
DTSTART;TZID=Europe/Berlin:20081016T193000
DTEND;TZID=Europe/Berlin:20081016T210000
DTSTAMP:20160208T120547Z
URL:https://www.marketingclub-muenchen.de/veranstaltungen/bmw-marketing-fu
 er-premiumprodukte-emotion-und-substanz/
SUMMARY:BMW: Marketing für Premiumprodukte. Emotion und Substanz - Marketi
 ng Club München
DESCRIPTION:Am 16.10.2008 war es endlich mal wieder soweit. Manfred Bräunl
 \, Leiter Marketing BMW Deutschland lud uns zum Thema "Marketing für Prem
 iumprodukte" ins BMW Markenschaufenster am Lenbachplatz ein.
ATTACH;FMTTYPE=image/jpeg:https://www.marketingclub-muenchen.de/wp-content
 /uploads/bmw.jpg
CATEGORIES:Rückblick,Vortrag
LOCATION:BMW Lenbachplatz\, Lenbachplatz 1\, 80333 München
GEO:48.1411245;11.567102699999964
X-APPLE-STRUCTURED-LOCATION;VALUE=URI;X-ADDRESS=Lenbachplatz 1\, München\,
  80333\, Deutschland;X-APPLE-RADIUS=100;X-TITLE=BMW Lenbachplatz:geo:48.14
 11245,11.567102699999964
END:VEVENT
BEGIN:VTIMEZONE
TZID:Europe/Berlin
X-LIC-LOCATION:Europe/Berlin
BEGIN:DAYLIGHT
DTSTART:20080330T030000
TZOFFSETFROM:+0100
TZOFFSETTO:+0200
TZNAME:CEST
END:DAYLIGHT
END:VTIMEZONE
END:VCALENDAR