BEGIN:VCALENDAR
VERSION:2.0
PRODID:-//wp-events-plugin.com//7.2.3.1//EN
TZID:Europe/Berlin
X-WR-TIMEZONE:Europe/Berlin
BEGIN:VEVENT
UID:538@marketingclub-muenchen.de
DTSTART;TZID=Europe/Berlin:20210701T180000
DTEND;TZID=Europe/Berlin:20210701T210000
DTSTAMP:20210630T111851Z
URL:https://www.marketingclub-muenchen.de/veranstaltungen/auf-gehts-zum-st
 ammtisch-von-giesing-braukultur-und-marketing/
SUMMARY:Auf geht’s zum Stammtisch: Von Giesing\, Braukultur und Marketing
 ! - Marketing Club München
DESCRIPTION:Diesen Monat wird’s originell: Auf in den Biergarten des wund
 erbaren Giesinger Bräu! Für den Stammtisch im Juli treffen wir uns bei e
 iner Brauerei\, die nicht nur in München fest verwurzelt ist\, sondern au
 ch jung\, spritzig und charmant in den Marketingaktivitäten. Gleich anmel
 den und austauschen!
ATTACH;FMTTYPE=image/jpeg:https://www.marketingclub-muenchen.de/wp-content
 /uploads/Bild_von-Canva_com_Stammtisch-Juli.jpg
CATEGORIES:Vortrag
LOCATION:Giesinger Bräustüberl\, Martin-Luther-Straße 2\, 81539 München
X-APPLE-STRUCTURED-LOCATION;VALUE=URI;X-ADDRESS=Martin-Luther-Straße 2\, M
 ünchen\, Bayern\, 81539\, Deutschland;X-APPLE-RADIUS=100;X-TITLE=Giesinge
 r Bräustüberl:geo:0,0
END:VEVENT
BEGIN:VTIMEZONE
TZID:Europe/Berlin
X-LIC-LOCATION:Europe/Berlin
BEGIN:DAYLIGHT
DTSTART:20210328T030000
TZOFFSETFROM:+0100
TZOFFSETTO:+0200
TZNAME:CEST
END:DAYLIGHT
END:VTIMEZONE
END:VCALENDAR