BEGIN:VCALENDAR
VERSION:2.0
PRODID:-//wp-events-plugin.com//7.2.3.1//EN
TZID:Europe/Berlin
X-WR-TIMEZONE:Europe/Berlin
BEGIN:VEVENT
UID:206@marketingclub-muenchen.de
DTSTART;TZID=Europe/Berlin:20070925T190000
DTEND;TZID=Europe/Berlin:20070925T210000
DTSTAMP:20160219T094716Z
URL:https://www.marketingclub-muenchen.de/veranstaltungen/atomic-performan
 ce-products-for-active-sports/
SUMMARY:Atomic - Performance Products for Active Sports - Marketing Club M
 ünchen
DESCRIPTION:"In the sommer I make skis..." - "...in the winter I work the m
 ountain". So charakterisierte Dr. Michael Schineis\, der Präsident der At
 omic Austria GmbH\, die Einstellung seiner Mitarbeiter zu ihrem Produkt. I
 m kleinen Altenmarkt in der Nähe von Salzburg\, in dem es an bis zu 330 T
 agen im Jahr möglich ist\, die eigenen Produkte ausgiebig zu testen\, hat
  die Atomic Austria GmbH ihren Hauptsitz.
ATTACH;FMTTYPE=image/jpeg:https://www.marketingclub-muenchen.de/wp-content
 /uploads/MCM_Teaser-e1454670837498.jpg
CATEGORIES:Vortrag
END:VEVENT
BEGIN:VTIMEZONE
TZID:Europe/Berlin
X-LIC-LOCATION:Europe/Berlin
BEGIN:DAYLIGHT
DTSTART:20070325T030000
TZOFFSETFROM:+0100
TZOFFSETTO:+0200
TZNAME:CEST
END:DAYLIGHT
END:VTIMEZONE
END:VCALENDAR