BEGIN:VCALENDAR
VERSION:2.0
PRODID:-//wp-events-plugin.com//7.2.3.1//EN
TZID:Europe/Berlin
X-WR-TIMEZONE:Europe/Berlin
BEGIN:VEVENT
UID:324@marketingclub-muenchen.de
DTSTART;TZID=Europe/Berlin:20170526T183000
DTEND;TZID=Europe/Berlin:20170526T203000
DTSTAMP:20200629T135255Z
URL:https://www.marketingclub-muenchen.de/veranstaltungen/artmuc-neue-kuns
 t-fuer-muenchen/
SUMMARY:ARTMUC – Neue Kunst für München - Marketing Club München
DESCRIPTION:Welche Kunst braucht München? Wer macht sie – und wie wird s
 ie gekauft? Auf unserer exklusiven Führung über die ARTMUC\, Münchens n
 eue Kunstmesse\, geben Künstler\, Ausstellungsmacher und Plattformbetreib
 er die Antworten. 
ATTACH;FMTTYPE=image/jpeg:https://www.marketingclub-muenchen.de/wp-content
 /uploads/teaser-artmuc-1200.jpg
CATEGORIES:Marketing vor Ort,Rückblick
LOCATION:ARTMUC\, Famosis\, Praterinsel 3-4\, 80538 München
GEO:48.13621999999999;11.59033999999997
X-APPLE-STRUCTURED-LOCATION;VALUE=URI;X-ADDRESS=Praterinsel 3-4\, München\
 , 80538\, Deutschland;X-APPLE-RADIUS=100;X-TITLE=ARTMUC\, Famosis:geo:48.1
 3621999999999,11.59033999999997
END:VEVENT
BEGIN:VTIMEZONE
TZID:Europe/Berlin
X-LIC-LOCATION:Europe/Berlin
BEGIN:DAYLIGHT
DTSTART:20170326T030000
TZOFFSETFROM:+0100
TZOFFSETTO:+0200
TZNAME:CEST
END:DAYLIGHT
END:VTIMEZONE
END:VCALENDAR