BEGIN:VCALENDAR
VERSION:2.0
PRODID:-//wp-events-plugin.com//7.2.3.1//EN
TZID:Europe/Berlin
X-WR-TIMEZONE:Europe/Berlin
BEGIN:VEVENT
UID:181@marketingclub-muenchen.de
DTSTART;TZID=Europe/Berlin:20131204T193000
DTEND;TZID=Europe/Berlin:20131204T210000
DTSTAMP:20160209T174114Z
URL:https://www.marketingclub-muenchen.de/veranstaltungen/ambientedirect-d
 ie-erfolgsstory-wohndesign/
SUMMARY:AMBIENTEDIRECT: Die Erfolgsstory Wohndesign - Marketing Club Münch
 en
DESCRIPTION:Ein beeindruckendes Füllhorn an Wohndesignobjekten und -ideen 
 bekamen die Marketing-Club Mitglieder am 4.12. bei AmbienteDirect.com gebo
 ten: Georg Steidinger entführte sie vor Ort nach Obersendling in die Ziel
 stattstraße.
ATTACH;FMTTYPE=image/jpeg:https://www.marketingclub-muenchen.de/wp-content
 /uploads/ambientedirect.jpg
CATEGORIES:Marketing vor Ort
END:VEVENT
BEGIN:VTIMEZONE
TZID:Europe/Berlin
X-LIC-LOCATION:Europe/Berlin
BEGIN:STANDARD
DTSTART:20131027T020000
TZOFFSETFROM:+0200
TZOFFSETTO:+0100
TZNAME:CET
END:STANDARD
END:VTIMEZONE
END:VCALENDAR